BEGIN:VCALENDAR
VERSION:2.0
PRODID:-//Lancashire and South Cumbria Training Hub - ECPv6.15.20//NONSGML v1.0//EN
CALSCALE:GREGORIAN
METHOD:PUBLISH
X-ORIGINAL-URL:https://lscthub.co.uk
X-WR-CALDESC:Events for Lancashire and South Cumbria Training Hub
REFRESH-INTERVAL;VALUE=DURATION:PT1H
X-Robots-Tag:noindex
X-PUBLISHED-TTL:PT1H
BEGIN:VTIMEZONE
TZID:Europe/London
BEGIN:DAYLIGHT
TZOFFSETFROM:+0000
TZOFFSETTO:+0100
TZNAME:BST
DTSTART:20250330T010000
END:DAYLIGHT
BEGIN:STANDARD
TZOFFSETFROM:+0100
TZOFFSETTO:+0000
TZNAME:GMT
DTSTART:20251026T010000
END:STANDARD
BEGIN:DAYLIGHT
TZOFFSETFROM:+0000
TZOFFSETTO:+0100
TZNAME:BST
DTSTART:20260329T010000
END:DAYLIGHT
BEGIN:STANDARD
TZOFFSETFROM:+0100
TZOFFSETTO:+0000
TZNAME:GMT
DTSTART:20261025T010000
END:STANDARD
BEGIN:DAYLIGHT
TZOFFSETFROM:+0000
TZOFFSETTO:+0100
TZNAME:BST
DTSTART:20270328T010000
END:DAYLIGHT
BEGIN:STANDARD
TZOFFSETFROM:+0100
TZOFFSETTO:+0000
TZNAME:GMT
DTSTART:20271031T010000
END:STANDARD
END:VTIMEZONE
BEGIN:VEVENT
DTSTART;TZID=Europe/London:20260325T093000
DTEND;TZID=Europe/London:20260325T123000
DTSTAMP:20260421T104411
CREATED:20251218T095918Z
LAST-MODIFIED:20251218T095918Z
UID:55977-1774431000-1774441800@lscthub.co.uk
SUMMARY:Mental Health in Primary Care
DESCRIPTION:This session is designed for anyone working clinically in primary care who encounters mental health presentations as part of everyday practice. \nMental health difficulties are common\, complex\, and often intertwined with physical health\, social stressors\, and life events. In primary care\, we are uniquely placed to notice early signs\, open meaningful conversations\, and offer timely\, compassionate support. \nUsing a primary care–relevant case study\, this session will focus on normalising mental health\, exploring how distress commonly presents in primary care settings\, and introducing formulation as a practical framework for making sense of people’s difficulties beyond diagnosis alone. \nThe session will introduce the 5 Ps formulation model (presenting\, predisposing\, precipitating\, perpetuating and protective factors) as a shared language for understanding mental health problems collaboratively with patients. We will consider how formulation can guide clinical decision-making\, risk awareness\, and proportionate intervention in a time-limited primary care context. \nParticipants will explore realistic support options within primary care\, including brief interventions\, psychoeducation\, social prescribing\, medication considerations\, referral pathways\, and safety-netting. The emphasis throughout is on confidence\, curiosity\, and relational practice rather than “fixing” or over-pathologising distress. \nThis session aims to support clinicians to feel more confident having mental health conversations\, to think holistically\, and to recognise the valuable role primary care plays in mental health support. \nThis is an interactive session and you will be expected to interact. Please ensure you have a camera and microphone available to attend the meeting. \nYou will receive a certificate post training for your attendance. Places are limited\, if you have booked a place\, please ensure you attend.\nIf you have any additional needs or requirements to attend this session\, please contact us at mbpcc.lscthub@nhs.net\nBy signing up you agree for your information to be stored and shared by the Training Hub and with the Training
URL:https://lscthub.co.uk/events/mental-health-in-primary-care-3/
CATEGORIES:Other Training
ORGANIZER;CN="Lancashire and South Cumbria Primary Care Training Hub":MAILTO:mbpcc.lscthub@nhs.net
END:VEVENT
BEGIN:VEVENT
DTSTART;TZID=Europe/London:20260325T093000
DTEND;TZID=Europe/London:20260325T123000
DTSTAMP:20260421T104411
CREATED:20260204T115533Z
LAST-MODIFIED:20260204T115550Z
UID:56968-1774431000-1774441800@lscthub.co.uk
SUMMARY:Chaperoning in Primary Care
DESCRIPTION:This online Primary Care Chaperone course is designed for non-clinical staff who may be asked to act as chaperones and require formal training in intimate examinations.\n\n\nGMC and CQC Aligned: This course meets strict standards set by the General Medical Council and Care Quality Commission\, ensuring you receive training that complies fully with healthcare regulations.\nCulturally Sensitive: We raise awareness of cultural diversity so chaperones can ensure all patients feel safe and respected\, regardless of background or identity.\nInteractive and Engaging: Delivered over three hours\, our training encourages conversation\, questions\, and sharing of real-life examples.\nFocused on Primary Care Settings: Unlike generic chaperone courses\, ours is specifically tailored for general practice staff.\nIn-Depth Understanding of Intimate Examinations: Learn to appreciate each patient’s unique preferences and vulnerabilities\, and become aware of unconscious biases that may affect patient comfort.\nSafeguarding and Reporting: Understand your role in safeguarding and how to report any concerns or complaints raised before\, during\, or after the examination.\n\n\n 
URL:https://lscthub.co.uk/events/chaperoning-in-primary-care-2/
CATEGORIES:Non-Clinical Staff Training
END:VEVENT
BEGIN:VEVENT
DTSTART;TZID=Europe/London:20260325T150000
DTEND;TZID=Europe/London:20260325T160000
DTSTAMP:20260421T104411
CREATED:20251218T091428Z
LAST-MODIFIED:20251218T091428Z
UID:55964-1774450800-1774454400@lscthub.co.uk
SUMMARY:University of Salford's Enhanced Practice Webinars - The Four Pillars Explained
DESCRIPTION:Click on the link to find out more and book your place. \nEnhanced Practice in Action: The Four Pillars Explained
URL:https://lscthub.co.uk/events/university-of-salfords-enhanced-practice-webinars-the-four-pillars-explained-2/
LOCATION:Online event
CATEGORIES:Apprenticeships
END:VEVENT
END:VCALENDAR