BEGIN:VCALENDAR
VERSION:2.0
PRODID:-//Lancashire and South Cumbria Training Hub - ECPv6.15.20//NONSGML v1.0//EN
CALSCALE:GREGORIAN
METHOD:PUBLISH
X-WR-CALNAME:Lancashire and South Cumbria Training Hub
X-ORIGINAL-URL:https://lscthub.co.uk
X-WR-CALDESC:Events for Lancashire and South Cumbria Training Hub
REFRESH-INTERVAL;VALUE=DURATION:PT1H
X-Robots-Tag:noindex
X-PUBLISHED-TTL:PT1H
BEGIN:VTIMEZONE
TZID:Europe/London
BEGIN:DAYLIGHT
TZOFFSETFROM:+0000
TZOFFSETTO:+0100
TZNAME:BST
DTSTART:20220327T010000
END:DAYLIGHT
BEGIN:STANDARD
TZOFFSETFROM:+0100
TZOFFSETTO:+0000
TZNAME:GMT
DTSTART:20221030T010000
END:STANDARD
BEGIN:DAYLIGHT
TZOFFSETFROM:+0000
TZOFFSETTO:+0100
TZNAME:BST
DTSTART:20230326T010000
END:DAYLIGHT
BEGIN:STANDARD
TZOFFSETFROM:+0100
TZOFFSETTO:+0000
TZNAME:GMT
DTSTART:20231029T010000
END:STANDARD
BEGIN:DAYLIGHT
TZOFFSETFROM:+0000
TZOFFSETTO:+0100
TZNAME:BST
DTSTART:20240331T010000
END:DAYLIGHT
BEGIN:STANDARD
TZOFFSETFROM:+0100
TZOFFSETTO:+0000
TZNAME:GMT
DTSTART:20241027T010000
END:STANDARD
END:VTIMEZONE
BEGIN:VEVENT
DTSTART;TZID=Europe/London:20231205T123000
DTEND;TZID=Europe/London:20231205T140000
DTSTAMP:20260420T030644
CREATED:20231121T101135Z
LAST-MODIFIED:20231121T101135Z
UID:38538-1701779400-1701784800@lscthub.co.uk
SUMMARY:Navigating through Modern General Practice 'how to' and the GP Improvement Programme
DESCRIPTION:A Modern General Practice model is a way of organising work in general practice to help enable practices to provide fair and safe care\, while also supporting the sustainability of services and an improved experience for both patients and staff. \nThe model involves practices:\n \n\nhaving a full understanding of demand and available capacity;\nproviding easy to use access routes to patients;\ncollecting consistent information from the patient at the point of contact;\nusing this information to give the most appropriate help to patients based on need; and\nimproving management of non-patient facing workload to help release capacity.\n\n\nNavigating through the ‘How to’ guides and the GPIP offers\n\nThis webinar helps you identify where to focus your improvement\, where and how to start\, what to expect and how to make the most of our improvement programme offers including self-navigation tools\, resources and webinars.
URL:https://lscthub.co.uk/events/navigating-through-modern-general-practice-how-to-and-the-gp-improvement-programme/
CATEGORIES:Other Training
END:VEVENT
BEGIN:VEVENT
DTSTART;TZID=Europe/London:20231205T123000
DTEND;TZID=Europe/London:20231205T140000
DTSTAMP:20260420T030644
CREATED:20231124T182413Z
LAST-MODIFIED:20231124T182413Z
UID:38635-1701779400-1701784800@lscthub.co.uk
SUMMARY:Navigating through Modern General Practice 'how to' and the GP Improvement Programme
DESCRIPTION:*REGISTRATION FOR THE WEBINAR ON 5TH DECEMBER WILL CLOSE AT 12PM ON 1ST DECEMBER. JOINING LINKS WILL BE SENT 24-48 HOURS BEFORE THE WEBINAR*\n\nA Modern General Practice model is a way of organising work in general practice to help enable practices to provide fair and safe care\, while also supporting the sustainability of services and an improved experience for both patients and staff. \nThe model involves practices: \n\nhaving a full understanding of demand and available capacity;\nproviding easy to use access routes to patients;\ncollecting consistent information from the patient at the point of contact;\nusing this information to give the most appropriate help to patients based on need; and\nimproving management of non-patient facing workload to help release capacity.\n\n\nNavigating through the ‘How to’ guides and the GPIP offers\n\nThis webinar helps you identify where to focus your improvement\, where and how to start\, what to expect and how to make the most of our improvement programme offers including self-navigation tools\, resources and webinars.
URL:https://lscthub.co.uk/events/navigating-through-modern-general-practice-how-to-and-the-gp-improvement-programme-3/
CATEGORIES:General Events
END:VEVENT
END:VCALENDAR