BEGIN:VCALENDAR
VERSION:2.0
PRODID:-//Lancashire and South Cumbria Training Hub - ECPv6.15.20//NONSGML v1.0//EN
CALSCALE:GREGORIAN
METHOD:PUBLISH
X-WR-CALNAME:Lancashire and South Cumbria Training Hub
X-ORIGINAL-URL:https://lscthub.co.uk
X-WR-CALDESC:Events for Lancashire and South Cumbria Training Hub
REFRESH-INTERVAL;VALUE=DURATION:PT1H
X-Robots-Tag:noindex
X-PUBLISHED-TTL:PT1H
BEGIN:VTIMEZONE
TZID:Europe/London
BEGIN:DAYLIGHT
TZOFFSETFROM:+0000
TZOFFSETTO:+0100
TZNAME:BST
DTSTART:20220327T010000
END:DAYLIGHT
BEGIN:STANDARD
TZOFFSETFROM:+0100
TZOFFSETTO:+0000
TZNAME:GMT
DTSTART:20221030T010000
END:STANDARD
BEGIN:DAYLIGHT
TZOFFSETFROM:+0000
TZOFFSETTO:+0100
TZNAME:BST
DTSTART:20230326T010000
END:DAYLIGHT
BEGIN:STANDARD
TZOFFSETFROM:+0100
TZOFFSETTO:+0000
TZNAME:GMT
DTSTART:20231029T010000
END:STANDARD
BEGIN:DAYLIGHT
TZOFFSETFROM:+0000
TZOFFSETTO:+0100
TZNAME:BST
DTSTART:20240331T010000
END:DAYLIGHT
BEGIN:STANDARD
TZOFFSETFROM:+0100
TZOFFSETTO:+0000
TZNAME:GMT
DTSTART:20241027T010000
END:STANDARD
END:VTIMEZONE
BEGIN:VEVENT
DTSTART;TZID=Europe/London:20231116T090000
DTEND;TZID=Europe/London:20231116T120000
DTSTAMP:20260420T194105
CREATED:20231009T082335Z
LAST-MODIFIED:20231009T082335Z
UID:36996-1700125200-1700136000@lscthub.co.uk
SUMMARY:Excellent Customer Care Training
DESCRIPTION:Defining what excellent customer service truly is through the understanding of how the patient thinks and feels. Including strategies to ensure high quality conversations between staff and patient. \n\nAIMS\n\n\n\nDefining excellent customer care\nWhy first impressions are so critical\nUnderstanding why patients demand and don’t ask\nUnderstand why we feel challenged by ‘unreasonable’ expectations from patients\nHow empathy affects our reactions and how to become more empathetic in challenging conversations\nCreating more effective team approaches to dealing with challenging patients\nManaging anger and complaints more effectively.\nManaging queues more effectively\nReducing abuse on the phone\n\nFor non-clinical staff only.
URL:https://lscthub.co.uk/events/excellent-customer-care-training-4/
CATEGORIES:Non-Clinical Staff Training
END:VEVENT
END:VCALENDAR