BEGIN:VCALENDAR
VERSION:2.0
PRODID:-//Lancashire and South Cumbria Training Hub - ECPv6.15.20//NONSGML v1.0//EN
CALSCALE:GREGORIAN
METHOD:PUBLISH
X-WR-CALNAME:Lancashire and South Cumbria Training Hub
X-ORIGINAL-URL:https://lscthub.co.uk
X-WR-CALDESC:Events for Lancashire and South Cumbria Training Hub
REFRESH-INTERVAL;VALUE=DURATION:PT1H
X-Robots-Tag:noindex
X-PUBLISHED-TTL:PT1H
BEGIN:VTIMEZONE
TZID:UTC
BEGIN:STANDARD
TZOFFSETFROM:+0000
TZOFFSETTO:+0000
TZNAME:UTC
DTSTART:20220101T000000
END:STANDARD
END:VTIMEZONE
BEGIN:VEVENT
DTSTART;TZID=UTC:20231012T090000
DTEND;TZID=UTC:20231012T120000
DTSTAMP:20260420T080829
CREATED:20230727T104315Z
LAST-MODIFIED:20230727T104315Z
UID:35287-1697101200-1697112000@lscthub.co.uk
SUMMARY:Chaperoning
DESCRIPTION:OVERVIEW \nThe course aims to really expand the understanding and knowledge of chaperoning in primary care. The course examines the problematic stereotypes of which patients will be offered a chaperone and in which circumstances. \nWe then go on to examine the roles and responsibilities of chaperones\, including developing their knowledge as to an extended definition of intimate examinations\, where to stand\, what to say and do. \nWe also discuss what information should be reported after a chaperoning consultation and their role in the event of a complaint being made. \n  \nAIMS \n\nClarifying definitions\nThe concept of ‘intimacy’\nRoles and responsibilities of the partners and the chaperone\nWhat the chaperone should be looking for whilst present\nIssues of consent: when and how it should be gained\nRisk areas in conducting intimate examinations\nChallenges to the gmcs ‘same sex chaperone’ guidance\,\nThe themes to be addressed in a practice chaperone policy\nReporting concerns\nProviding a chaperoning policy\n\n  \nWHO SHOULD ATTEND? \nNon-Clinical Primary Care Staff
URL:https://lscthub.co.uk/events/chaperoning/
CATEGORIES:Non-Clinical Staff Training
END:VEVENT
END:VCALENDAR