BEGIN:VCALENDAR
VERSION:2.0
PRODID:-//Lancashire and South Cumbria Training Hub - ECPv6.15.20//NONSGML v1.0//EN
CALSCALE:GREGORIAN
METHOD:PUBLISH
X-WR-CALNAME:Lancashire and South Cumbria Training Hub
X-ORIGINAL-URL:https://lscthub.co.uk
X-WR-CALDESC:Events for Lancashire and South Cumbria Training Hub
REFRESH-INTERVAL;VALUE=DURATION:PT1H
X-Robots-Tag:noindex
X-PUBLISHED-TTL:PT1H
BEGIN:VTIMEZONE
TZID:Europe/London
BEGIN:DAYLIGHT
TZOFFSETFROM:+0000
TZOFFSETTO:+0100
TZNAME:BST
DTSTART:20220327T010000
END:DAYLIGHT
BEGIN:STANDARD
TZOFFSETFROM:+0100
TZOFFSETTO:+0000
TZNAME:GMT
DTSTART:20221030T010000
END:STANDARD
BEGIN:DAYLIGHT
TZOFFSETFROM:+0000
TZOFFSETTO:+0100
TZNAME:BST
DTSTART:20230326T010000
END:DAYLIGHT
BEGIN:STANDARD
TZOFFSETFROM:+0100
TZOFFSETTO:+0000
TZNAME:GMT
DTSTART:20231029T010000
END:STANDARD
BEGIN:DAYLIGHT
TZOFFSETFROM:+0000
TZOFFSETTO:+0100
TZNAME:BST
DTSTART:20240331T010000
END:DAYLIGHT
BEGIN:STANDARD
TZOFFSETFROM:+0100
TZOFFSETTO:+0000
TZNAME:GMT
DTSTART:20241027T010000
END:STANDARD
END:VTIMEZONE
BEGIN:VEVENT
DTSTART;TZID=Europe/London:20231004T183000
DTEND;TZID=Europe/London:20231004T193000
DTSTAMP:20260420T194212
CREATED:20230928T151141Z
LAST-MODIFIED:20230928T151141Z
UID:36654-1696444200-1696447800@lscthub.co.uk
SUMMARY:ACP Clinical Supervision Session
DESCRIPTION:This training event will enable you to reflect on and further develop your knowledge and skills necessary to your role as a clinical supervisor. \nFocus: ‘We have an echo cardiographer coming to do a session on common presenting cardiac complaints and how they look on ultrasound and tips on referring your patients in for scans.’ Common presenting cases will be discussed to allow clinical supervision discussions to take place.
URL:https://lscthub.co.uk/events/acp-clinical-supervision-session-4/
CATEGORIES:General Events
END:VEVENT
END:VCALENDAR