BEGIN:VCALENDAR
VERSION:2.0
PRODID:-//Lancashire and South Cumbria Training Hub - ECPv6.15.20//NONSGML v1.0//EN
CALSCALE:GREGORIAN
METHOD:PUBLISH
X-WR-CALNAME:Lancashire and South Cumbria Training Hub
X-ORIGINAL-URL:https://lscthub.co.uk
X-WR-CALDESC:Events for Lancashire and South Cumbria Training Hub
REFRESH-INTERVAL;VALUE=DURATION:PT1H
X-Robots-Tag:noindex
X-PUBLISHED-TTL:PT1H
BEGIN:VTIMEZONE
TZID:UTC
BEGIN:STANDARD
TZOFFSETFROM:+0000
TZOFFSETTO:+0000
TZNAME:UTC
DTSTART:20220101T000000
END:STANDARD
END:VTIMEZONE
BEGIN:VEVENT
DTSTART;TZID=UTC:20230809T180000
DTEND;TZID=UTC:20230809T190000
DTSTAMP:20260421T032406
CREATED:20230621T071747Z
LAST-MODIFIED:20230621T071747Z
UID:34083-1691604000-1691607600@lscthub.co.uk
SUMMARY:ACP Clinical Supervision Session
DESCRIPTION:This training event will enable you to reflect on and further develop your knowledge and skills necessary to your role as a clinical supervisor. \nFocus: Speaker – Vicki Jordan – Mental health \, anxiety and depression management in primary care ‘top tips’
URL:https://lscthub.co.uk/events/acp-clinical-supervision-session-2/
CATEGORIES:General Events
END:VEVENT
END:VCALENDAR