BEGIN:VCALENDAR
VERSION:2.0
PRODID:-//Lancashire and South Cumbria Training Hub - ECPv6.15.20//NONSGML v1.0//EN
CALSCALE:GREGORIAN
METHOD:PUBLISH
X-ORIGINAL-URL:https://lscthub.co.uk
X-WR-CALDESC:Events for Lancashire and South Cumbria Training Hub
REFRESH-INTERVAL;VALUE=DURATION:PT1H
X-Robots-Tag:noindex
X-PUBLISHED-TTL:PT1H
BEGIN:VTIMEZONE
TZID:UTC
BEGIN:STANDARD
TZOFFSETFROM:+0000
TZOFFSETTO:+0000
TZNAME:UTC
DTSTART:20220101T000000
END:STANDARD
END:VTIMEZONE
BEGIN:VEVENT
DTSTART;TZID=UTC:20230719T183000
DTEND;TZID=UTC:20230719T193000
DTSTAMP:20260421T001623
CREATED:20230606T080711Z
LAST-MODIFIED:20230705T084429Z
UID:33354-1689791400-1689795000@lscthub.co.uk
SUMMARY:Red flags - ACP Clinical Supervision Session
DESCRIPTION:This training event will enable you to reflect on and further develop your knowledge and skills necessary to your role as a clinical supervisor. \nFocus: Red Flags
URL:https://lscthub.co.uk/events/red-flags-acp-clinical-supervision-session/
CATEGORIES:General Events
END:VEVENT
END:VCALENDAR