BEGIN:VCALENDAR
VERSION:2.0
PRODID:-//Lancashire and South Cumbria Training Hub - ECPv6.15.20//NONSGML v1.0//EN
CALSCALE:GREGORIAN
METHOD:PUBLISH
X-WR-CALNAME:Lancashire and South Cumbria Training Hub
X-ORIGINAL-URL:https://lscthub.co.uk
X-WR-CALDESC:Events for Lancashire and South Cumbria Training Hub
REFRESH-INTERVAL;VALUE=DURATION:PT1H
X-Robots-Tag:noindex
X-PUBLISHED-TTL:PT1H
BEGIN:VTIMEZONE
TZID:UTC
BEGIN:STANDARD
TZOFFSETFROM:+0000
TZOFFSETTO:+0000
TZNAME:UTC
DTSTART:20220101T000000
END:STANDARD
END:VTIMEZONE
BEGIN:VEVENT
DTSTART;TZID=UTC:20230516T093000
DTEND;TZID=UTC:20230516T123000
DTSTAMP:20260419T174359
CREATED:20221212T105921Z
LAST-MODIFIED:20221212T105921Z
UID:28042-1684229400-1684240200@lscthub.co.uk
SUMMARY:Understanding blood tests and results training
DESCRIPTION:OVERVIEW \nThe course aims to develop a good understanding of the most common blood tests taken in general practice. \nWe explore the medical reasons why these blood tests are required\, including discussion of the therapeutic ranges and why this is important. \nAIMS \n\nClarification of terminology\nUnderstanding blood components\nMedical reasons behind the blood tests\nWhy the blood tests are important\n\nWHO SHOULD ATTEND? \n\nSecretaries\nNon Clinicians\nReceptionists\nHeath care assistants\n\nWHAT DO I NEED? \n\nMS TEAMS (join on the app or online)\nPen/Paper\nPreferably a camera and mic to participate\n\nHOW LONG IS THE COURSE? \n2 hours (Virtual) \nHOW TO JOIN? \nYou will receive an email a couple of days prior to the event with all training materials and a link to join the MS Teams training session.
URL:https://lscthub.co.uk/events/understanding-blood-tests-and-results-training/
CATEGORIES:Non-Clinical Staff Training
END:VEVENT
END:VCALENDAR